BEGIN:VCALENDAR
VERSION:2.0
PRODID:-//Christian Faith Center - ECPv6.15.20//NONSGML v1.0//EN
CALSCALE:GREGORIAN
METHOD:PUBLISH
X-WR-CALNAME:Christian Faith Center
X-ORIGINAL-URL:https://cfcnc.us
X-WR-CALDESC:Events for Christian Faith Center
REFRESH-INTERVAL;VALUE=DURATION:PT1H
X-Robots-Tag:noindex
X-PUBLISHED-TTL:PT1H
BEGIN:VTIMEZONE
TZID:UTC
BEGIN:STANDARD
TZOFFSETFROM:+0000
TZOFFSETTO:+0000
TZNAME:UTC
DTSTART:20230101T000000
END:STANDARD
END:VTIMEZONE
BEGIN:VEVENT
DTSTART;TZID=UTC:20251207T100000
DTEND;TZID=UTC:20251207T123000
DTSTAMP:20260420T135904
CREATED:20251105T061834Z
LAST-MODIFIED:20251105T061834Z
UID:6482-1765101600-1765110600@cfcnc.us
SUMMARY:Sunday Service
DESCRIPTION:
URL:https://cfcnc.us/event/sunday-service-86/
LOCATION:Christian Faith Center\, 101 South Peachtree Street\, Creedmoor\, 27522\, United States
CATEGORIES:Regular Service
END:VEVENT
BEGIN:VEVENT
DTSTART;TZID=UTC:20251130T100000
DTEND;TZID=UTC:20251130T123000
DTSTAMP:20260420T135904
CREATED:20251105T061633Z
LAST-MODIFIED:20251105T061633Z
UID:6476-1764496800-1764505800@cfcnc.us
SUMMARY:Sunday Service
DESCRIPTION:
URL:https://cfcnc.us/event/sunday-service-84/
LOCATION:Christian Faith Center\, 101 South Peachtree Street\, Creedmoor\, 27522\, United States
CATEGORIES:Regular Service
END:VEVENT
BEGIN:VEVENT
DTSTART;TZID=UTC:20251123T100000
DTEND;TZID=UTC:20251123T123000
DTSTAMP:20260420T135904
CREATED:20251105T061745Z
LAST-MODIFIED:20251105T061745Z
UID:6481-1763892000-1763901000@cfcnc.us
SUMMARY:Sunday Service
DESCRIPTION:
URL:https://cfcnc.us/event/sunday-service-85/
LOCATION:Christian Faith Center\, 101 South Peachtree Street\, Creedmoor\, 27522\, United States
CATEGORIES:Regular Service
END:VEVENT
BEGIN:VEVENT
DTSTART;TZID=UTC:20251122T170000
DTEND;TZID=UTC:20251122T190000
DTSTAMP:20260420T135904
CREATED:20251105T061545Z
LAST-MODIFIED:20251105T061545Z
UID:6475-1763830800-1763838000@cfcnc.us
SUMMARY:Sons of God S.O.G. Collective Reunion Concert
DESCRIPTION:
URL:https://cfcnc.us/event/sons-of-god-s-o-g-collective-reunion-concert/
LOCATION:Christian Faith Center\, 101 South Peachtree Street\, Creedmoor\, 27522\, United States
CATEGORIES:Special Service
END:VEVENT
BEGIN:VEVENT
DTSTART;TZID=UTC:20251116T100000
DTEND;TZID=UTC:20251116T123000
DTSTAMP:20260420T135904
CREATED:20251105T061350Z
LAST-MODIFIED:20251105T061350Z
UID:6474-1763287200-1763296200@cfcnc.us
SUMMARY:Sunday Service
DESCRIPTION:
URL:https://cfcnc.us/event/sunday-service-83/
LOCATION:Christian Faith Center\, 101 South Peachtree Street\, Creedmoor\, 27522\, United States
CATEGORIES:Regular Service
END:VEVENT
BEGIN:VEVENT
DTSTART;TZID=UTC:20251112T190000
DTEND;TZID=UTC:20251112T213000
DTSTAMP:20260420T135904
CREATED:20251105T061309Z
LAST-MODIFIED:20251105T062302Z
UID:6472-1762974000-1762983000@cfcnc.us
SUMMARY:Street Preachers Podcast Tour with Pastor Tim Timberlake & Pastor Philip Anthony Mitchell
DESCRIPTION:
URL:https://cfcnc.us/event/street-preachers-podcast-tour-with-pastor-tim-timberlake-pastor-philip-anthony-mitchell/
LOCATION:Christian Faith Center\, 101 South Peachtree Street\, Creedmoor\, 27522\, United States
CATEGORIES:Special Service
END:VEVENT
BEGIN:VEVENT
DTSTART;TZID=UTC:20251109T100000
DTEND;TZID=UTC:20251109T123000
DTSTAMP:20260420T135904
CREATED:20251105T061011Z
LAST-MODIFIED:20251105T061011Z
UID:6473-1762682400-1762691400@cfcnc.us
SUMMARY:Sunday Service
DESCRIPTION:
URL:https://cfcnc.us/event/sunday-service-82/
LOCATION:Christian Faith Center\, 101 South Peachtree Street\, Creedmoor\, 27522\, United States
CATEGORIES:Regular Service
END:VEVENT
BEGIN:VEVENT
DTSTART;TZID=UTC:20250601T100000
DTEND;TZID=UTC:20250601T123000
DTSTAMP:20260420T135904
CREATED:20240407T145206Z
LAST-MODIFIED:20240407T145206Z
UID:5697-1748772000-1748781000@cfcnc.us
SUMMARY:Sunday Service
DESCRIPTION:
URL:https://cfcnc.us/event/sunday-service-81/
LOCATION:Christian Faith Center\, 101 South Peachtree Street\, Creedmoor\, 27522\, United States
CATEGORIES:Regular Service
END:VEVENT
BEGIN:VEVENT
DTSTART;TZID=UTC:20250525T100000
DTEND;TZID=UTC:20250525T123000
DTSTAMP:20260420T135904
CREATED:20240407T145132Z
LAST-MODIFIED:20240407T145132Z
UID:5698-1748167200-1748176200@cfcnc.us
SUMMARY:Sunday Service
DESCRIPTION:
URL:https://cfcnc.us/event/sunday-service-80/
LOCATION:Christian Faith Center\, 101 South Peachtree Street\, Creedmoor\, 27522\, United States
CATEGORIES:Regular Service
END:VEVENT
BEGIN:VEVENT
DTSTART;TZID=UTC:20250518T100000
DTEND;TZID=UTC:20250518T123000
DTSTAMP:20260420T135904
CREATED:20240407T145049Z
LAST-MODIFIED:20240407T145049Z
UID:5699-1747562400-1747571400@cfcnc.us
SUMMARY:Sunday Service
DESCRIPTION:
URL:https://cfcnc.us/event/sunday-service-79/
LOCATION:Christian Faith Center\, 101 South Peachtree Street\, Creedmoor\, 27522\, United States
CATEGORIES:Regular Service
END:VEVENT
BEGIN:VEVENT
DTSTART;TZID=UTC:20250511T100000
DTEND;TZID=UTC:20250511T123000
DTSTAMP:20260420T135904
CREATED:20240407T145020Z
LAST-MODIFIED:20240407T145020Z
UID:5700-1746957600-1746966600@cfcnc.us
SUMMARY:Sunday Service
DESCRIPTION:
URL:https://cfcnc.us/event/sunday-service-78/
LOCATION:Christian Faith Center\, 101 South Peachtree Street\, Creedmoor\, 27522\, United States
CATEGORIES:Regular Service
END:VEVENT
BEGIN:VEVENT
DTSTART;TZID=UTC:20250504T100000
DTEND;TZID=UTC:20250504T123000
DTSTAMP:20260420T135904
CREATED:20240407T144951Z
LAST-MODIFIED:20240407T144951Z
UID:5701-1746352800-1746361800@cfcnc.us
SUMMARY:Sunday Service
DESCRIPTION:
URL:https://cfcnc.us/event/sunday-service-77/
LOCATION:Christian Faith Center\, 101 South Peachtree Street\, Creedmoor\, 27522\, United States
CATEGORIES:Regular Service
END:VEVENT
BEGIN:VEVENT
DTSTART;TZID=UTC:20250427T100000
DTEND;TZID=UTC:20250427T123000
DTSTAMP:20260420T135904
CREATED:20240407T144845Z
LAST-MODIFIED:20240407T144845Z
UID:5702-1745748000-1745757000@cfcnc.us
SUMMARY:Sunday Service
DESCRIPTION:
URL:https://cfcnc.us/event/sunday-service-76/
LOCATION:Christian Faith Center\, 101 South Peachtree Street\, Creedmoor\, 27522\, United States
CATEGORIES:Regular Service
END:VEVENT
BEGIN:VEVENT
DTSTART;TZID=UTC:20250420T100000
DTEND;TZID=UTC:20250420T123000
DTSTAMP:20260420T135904
CREATED:20240407T144723Z
LAST-MODIFIED:20240407T144723Z
UID:5703-1745143200-1745152200@cfcnc.us
SUMMARY:Sunday Service
DESCRIPTION:
URL:https://cfcnc.us/event/sunday-service-75/
LOCATION:Christian Faith Center\, 101 South Peachtree Street\, Creedmoor\, 27522\, United States
CATEGORIES:Regular Service
END:VEVENT
BEGIN:VEVENT
DTSTART;TZID=UTC:20250413T100000
DTEND;TZID=UTC:20250413T123000
DTSTAMP:20260420T135904
CREATED:20240407T144655Z
LAST-MODIFIED:20240407T144655Z
UID:5704-1744538400-1744547400@cfcnc.us
SUMMARY:Sunday Service
DESCRIPTION:
URL:https://cfcnc.us/event/sunday-service-74/
LOCATION:Christian Faith Center\, 101 South Peachtree Street\, Creedmoor\, 27522\, United States
CATEGORIES:Regular Service
END:VEVENT
BEGIN:VEVENT
DTSTART;TZID=UTC:20250406T100000
DTEND;TZID=UTC:20250406T123000
DTSTAMP:20260420T135904
CREATED:20240407T144539Z
LAST-MODIFIED:20240407T144539Z
UID:5705-1743933600-1743942600@cfcnc.us
SUMMARY:Sunday Service
DESCRIPTION:
URL:https://cfcnc.us/event/sunday-service-73/
LOCATION:Christian Faith Center\, 101 South Peachtree Street\, Creedmoor\, 27522\, United States
CATEGORIES:Regular Service
END:VEVENT
BEGIN:VEVENT
DTSTART;TZID=UTC:20250330T100000
DTEND;TZID=UTC:20250330T123000
DTSTAMP:20260420T135904
CREATED:20240407T144507Z
LAST-MODIFIED:20240407T144507Z
UID:5706-1743328800-1743337800@cfcnc.us
SUMMARY:Sunday Service
DESCRIPTION:
URL:https://cfcnc.us/event/sunday-service-72/
LOCATION:Christian Faith Center\, 101 South Peachtree Street\, Creedmoor\, 27522\, United States
CATEGORIES:Regular Service
END:VEVENT
BEGIN:VEVENT
DTSTART;TZID=UTC:20250323T100000
DTEND;TZID=UTC:20250323T123000
DTSTAMP:20260420T135904
CREATED:20240407T144432Z
LAST-MODIFIED:20240407T144432Z
UID:5707-1742724000-1742733000@cfcnc.us
SUMMARY:Sunday Service
DESCRIPTION:
URL:https://cfcnc.us/event/sunday-service-71/
LOCATION:Christian Faith Center\, 101 South Peachtree Street\, Creedmoor\, 27522\, United States
CATEGORIES:Regular Service
END:VEVENT
BEGIN:VEVENT
DTSTART;TZID=UTC:20250316T100000
DTEND;TZID=UTC:20250316T123000
DTSTAMP:20260420T135904
CREATED:20240407T144402Z
LAST-MODIFIED:20240407T144402Z
UID:5708-1742119200-1742128200@cfcnc.us
SUMMARY:Sunday Service
DESCRIPTION:
URL:https://cfcnc.us/event/sunday-service-70/
LOCATION:Christian Faith Center\, 101 South Peachtree Street\, Creedmoor\, 27522\, United States
CATEGORIES:Regular Service
END:VEVENT
BEGIN:VEVENT
DTSTART;TZID=UTC:20250309T100000
DTEND;TZID=UTC:20250309T123000
DTSTAMP:20260420T135904
CREATED:20240407T144329Z
LAST-MODIFIED:20240407T144329Z
UID:5709-1741514400-1741523400@cfcnc.us
SUMMARY:Sunday Service
DESCRIPTION:
URL:https://cfcnc.us/event/sunday-service-69/
LOCATION:Christian Faith Center\, 101 South Peachtree Street\, Creedmoor\, 27522\, United States
CATEGORIES:Regular Service
END:VEVENT
BEGIN:VEVENT
DTSTART;TZID=UTC:20250302T100000
DTEND;TZID=UTC:20250302T123000
DTSTAMP:20260420T135904
CREATED:20240407T144259Z
LAST-MODIFIED:20240407T144259Z
UID:5710-1740909600-1740918600@cfcnc.us
SUMMARY:Sunday Service
DESCRIPTION:
URL:https://cfcnc.us/event/sunday-service-68/
LOCATION:Christian Faith Center\, 101 South Peachtree Street\, Creedmoor\, 27522\, United States
CATEGORIES:Regular Service
END:VEVENT
BEGIN:VEVENT
DTSTART;TZID=UTC:20250223T100000
DTEND;TZID=UTC:20250223T123000
DTSTAMP:20260420T135904
CREATED:20240407T144215Z
LAST-MODIFIED:20240407T144215Z
UID:5711-1740304800-1740313800@cfcnc.us
SUMMARY:Sunday Service
DESCRIPTION:
URL:https://cfcnc.us/event/sunday-service-67/
LOCATION:Christian Faith Center\, 101 South Peachtree Street\, Creedmoor\, 27522\, United States
CATEGORIES:Regular Service
END:VEVENT
BEGIN:VEVENT
DTSTART;TZID=UTC:20250216T100000
DTEND;TZID=UTC:20250216T123000
DTSTAMP:20260420T135904
CREATED:20240407T144142Z
LAST-MODIFIED:20240407T144142Z
UID:5712-1739700000-1739709000@cfcnc.us
SUMMARY:Sunday Service
DESCRIPTION:
URL:https://cfcnc.us/event/sunday-service-66/
LOCATION:Christian Faith Center\, 101 South Peachtree Street\, Creedmoor\, 27522\, United States
CATEGORIES:Regular Service
END:VEVENT
BEGIN:VEVENT
DTSTART;TZID=UTC:20250209T100000
DTEND;TZID=UTC:20250209T123000
DTSTAMP:20260420T135904
CREATED:20240407T144101Z
LAST-MODIFIED:20240407T144101Z
UID:5713-1739095200-1739104200@cfcnc.us
SUMMARY:Sunday Service
DESCRIPTION:
URL:https://cfcnc.us/event/sunday-service-65/
LOCATION:Christian Faith Center\, 101 South Peachtree Street\, Creedmoor\, 27522\, United States
CATEGORIES:Regular Service
END:VEVENT
BEGIN:VEVENT
DTSTART;TZID=UTC:20250202T100000
DTEND;TZID=UTC:20250202T123000
DTSTAMP:20260420T135904
CREATED:20240407T144035Z
LAST-MODIFIED:20240407T144035Z
UID:5714-1738490400-1738499400@cfcnc.us
SUMMARY:Sunday Service
DESCRIPTION:
URL:https://cfcnc.us/event/sunday-service-64/
LOCATION:Christian Faith Center\, 101 South Peachtree Street\, Creedmoor\, 27522\, United States
CATEGORIES:Regular Service
END:VEVENT
BEGIN:VEVENT
DTSTART;TZID=UTC:20250126T100000
DTEND;TZID=UTC:20250126T123000
DTSTAMP:20260420T135904
CREATED:20240407T143944Z
LAST-MODIFIED:20240407T143944Z
UID:5715-1737885600-1737894600@cfcnc.us
SUMMARY:Sunday Service
DESCRIPTION:
URL:https://cfcnc.us/event/sunday-service-63/
LOCATION:Christian Faith Center\, 101 South Peachtree Street\, Creedmoor\, 27522\, United States
CATEGORIES:Regular Service
END:VEVENT
BEGIN:VEVENT
DTSTART;TZID=UTC:20250119T100000
DTEND;TZID=UTC:20250119T123000
DTSTAMP:20260420T135904
CREATED:20240407T143917Z
LAST-MODIFIED:20240407T143917Z
UID:5716-1737280800-1737289800@cfcnc.us
SUMMARY:Sunday Service
DESCRIPTION:
URL:https://cfcnc.us/event/sunday-service-62/
LOCATION:Christian Faith Center\, 101 South Peachtree Street\, Creedmoor\, 27522\, United States
CATEGORIES:Regular Service
END:VEVENT
BEGIN:VEVENT
DTSTART;TZID=UTC:20250112T100000
DTEND;TZID=UTC:20250112T123000
DTSTAMP:20260420T135904
CREATED:20240407T143852Z
LAST-MODIFIED:20240407T143852Z
UID:5717-1736676000-1736685000@cfcnc.us
SUMMARY:Sunday Service
DESCRIPTION:
URL:https://cfcnc.us/event/sunday-service-61/
LOCATION:Christian Faith Center\, 101 South Peachtree Street\, Creedmoor\, 27522\, United States
CATEGORIES:Regular Service
END:VEVENT
BEGIN:VEVENT
DTSTART;TZID=UTC:20250105T100000
DTEND;TZID=UTC:20250105T123000
DTSTAMP:20260420T135904
CREATED:20240407T143813Z
LAST-MODIFIED:20240407T143813Z
UID:5718-1736071200-1736080200@cfcnc.us
SUMMARY:Sunday Service
DESCRIPTION:
URL:https://cfcnc.us/event/sunday-service-60/
LOCATION:Christian Faith Center\, 101 South Peachtree Street\, Creedmoor\, 27522\, United States
CATEGORIES:Regular Service
END:VEVENT
BEGIN:VEVENT
DTSTART;TZID=UTC:20241229T100000
DTEND;TZID=UTC:20241229T123000
DTSTAMP:20260420T135904
CREATED:20240407T142622Z
LAST-MODIFIED:20240407T142622Z
UID:5719-1735466400-1735475400@cfcnc.us
SUMMARY:Sunday Service
DESCRIPTION:
URL:https://cfcnc.us/event/sunday-service-59/
LOCATION:Christian Faith Center\, 101 South Peachtree Street\, Creedmoor\, 27522\, United States
CATEGORIES:Regular Service
END:VEVENT
END:VCALENDAR