BEGIN:VCALENDAR
VERSION:2.0
PRODID:-//Christian Faith Center - ECPv6.15.20//NONSGML v1.0//EN
CALSCALE:GREGORIAN
METHOD:PUBLISH
X-WR-CALNAME:Christian Faith Center
X-ORIGINAL-URL:https://cfcnc.us
X-WR-CALDESC:Events for Christian Faith Center
REFRESH-INTERVAL;VALUE=DURATION:PT1H
X-Robots-Tag:noindex
X-PUBLISHED-TTL:PT1H
BEGIN:VTIMEZONE
TZID:UTC
BEGIN:STANDARD
TZOFFSETFROM:+0000
TZOFFSETTO:+0000
TZNAME:UTC
DTSTART:20220101T000000
END:STANDARD
END:VTIMEZONE
BEGIN:VEVENT
DTSTART;TZID=UTC:20240811T100000
DTEND;TZID=UTC:20240811T123000
DTSTAMP:20260420T212451
CREATED:20240407T134823Z
LAST-MODIFIED:20240407T134823Z
UID:5676-1723370400-1723379400@cfcnc.us
SUMMARY:Sunday Service
DESCRIPTION:
URL:https://cfcnc.us/event/sunday-service-40/
LOCATION:Christian Faith Center\, 101 South Peachtree Street\, Creedmoor\, 27522\, United States
CATEGORIES:Regular Service
END:VEVENT
BEGIN:VEVENT
DTSTART;TZID=UTC:20240804T100000
DTEND;TZID=UTC:20240804T123000
DTSTAMP:20260420T212451
CREATED:20240407T134754Z
LAST-MODIFIED:20240407T134754Z
UID:5677-1722765600-1722774600@cfcnc.us
SUMMARY:Sunday Service
DESCRIPTION:
URL:https://cfcnc.us/event/sunday-service-39/
LOCATION:Christian Faith Center\, 101 South Peachtree Street\, Creedmoor\, 27522\, United States
CATEGORIES:Regular Service
END:VEVENT
BEGIN:VEVENT
DTSTART;TZID=UTC:20240728T100000
DTEND;TZID=UTC:20240728T123000
DTSTAMP:20260420T212451
CREATED:20240407T134724Z
LAST-MODIFIED:20240407T134724Z
UID:5678-1722160800-1722169800@cfcnc.us
SUMMARY:Sunday Service
DESCRIPTION:
URL:https://cfcnc.us/event/sunday-service-38/
LOCATION:Christian Faith Center\, 101 South Peachtree Street\, Creedmoor\, 27522\, United States
CATEGORIES:Regular Service
END:VEVENT
BEGIN:VEVENT
DTSTART;TZID=UTC:20240721T100000
DTEND;TZID=UTC:20240721T123000
DTSTAMP:20260420T212451
CREATED:20240407T134657Z
LAST-MODIFIED:20240407T134657Z
UID:5679-1721556000-1721565000@cfcnc.us
SUMMARY:Sunday Service
DESCRIPTION:
URL:https://cfcnc.us/event/sunday-service-37/
LOCATION:Christian Faith Center\, 101 South Peachtree Street\, Creedmoor\, 27522\, United States
CATEGORIES:Regular Service
END:VEVENT
BEGIN:VEVENT
DTSTART;TZID=UTC:20240714T100000
DTEND;TZID=UTC:20240714T123000
DTSTAMP:20260420T212451
CREATED:20240407T134636Z
LAST-MODIFIED:20240407T134636Z
UID:5680-1720951200-1720960200@cfcnc.us
SUMMARY:Sunday Service
DESCRIPTION:
URL:https://cfcnc.us/event/sunday-service-36/
LOCATION:Christian Faith Center\, 101 South Peachtree Street\, Creedmoor\, 27522\, United States
CATEGORIES:Regular Service
END:VEVENT
BEGIN:VEVENT
DTSTART;TZID=UTC:20240707T100000
DTEND;TZID=UTC:20240707T123000
DTSTAMP:20260420T212451
CREATED:20240407T134615Z
LAST-MODIFIED:20240407T134615Z
UID:5681-1720346400-1720355400@cfcnc.us
SUMMARY:Sunday Service
DESCRIPTION:
URL:https://cfcnc.us/event/sunday-service-35/
LOCATION:Christian Faith Center\, 101 South Peachtree Street\, Creedmoor\, 27522\, United States
CATEGORIES:Regular Service
END:VEVENT
BEGIN:VEVENT
DTSTART;TZID=UTC:20240630T100000
DTEND;TZID=UTC:20240630T123000
DTSTAMP:20260420T212451
CREATED:20240407T134543Z
LAST-MODIFIED:20240407T134543Z
UID:5669-1719741600-1719750600@cfcnc.us
SUMMARY:Sunday Service
DESCRIPTION:
URL:https://cfcnc.us/event/sunday-service-34/
LOCATION:Christian Faith Center\, 101 South Peachtree Street\, Creedmoor\, 27522\, United States
CATEGORIES:Regular Service
END:VEVENT
BEGIN:VEVENT
DTSTART;TZID=UTC:20240623T100000
DTEND;TZID=UTC:20240623T123000
DTSTAMP:20260420T212451
CREATED:20240407T134136Z
LAST-MODIFIED:20240407T134136Z
UID:5659-1719136800-1719145800@cfcnc.us
SUMMARY:Sunday Service
DESCRIPTION:
URL:https://cfcnc.us/event/sunday-service-33/
LOCATION:Christian Faith Center\, 101 South Peachtree Street\, Creedmoor\, 27522\, United States
CATEGORIES:Regular Service
END:VEVENT
BEGIN:VEVENT
DTSTART;TZID=UTC:20240616T100000
DTEND;TZID=UTC:20240616T123000
DTSTAMP:20260420T212451
CREATED:20240407T134113Z
LAST-MODIFIED:20240407T134113Z
UID:5658-1718532000-1718541000@cfcnc.us
SUMMARY:Sunday Service
DESCRIPTION:
URL:https://cfcnc.us/event/sunday-service-32/
LOCATION:Christian Faith Center\, 101 South Peachtree Street\, Creedmoor\, 27522\, United States
CATEGORIES:Regular Service
END:VEVENT
BEGIN:VEVENT
DTSTART;TZID=UTC:20240609T100000
DTEND;TZID=UTC:20240609T123000
DTSTAMP:20260420T212451
CREATED:20240407T134048Z
LAST-MODIFIED:20240407T134048Z
UID:5657-1717927200-1717936200@cfcnc.us
SUMMARY:Sunday Service
DESCRIPTION:
URL:https://cfcnc.us/event/sunday-service-31/
LOCATION:Christian Faith Center\, 101 South Peachtree Street\, Creedmoor\, 27522\, United States
CATEGORIES:Regular Service
END:VEVENT
BEGIN:VEVENT
DTSTART;TZID=UTC:20240602T100000
DTEND;TZID=UTC:20240602T123000
DTSTAMP:20260420T212451
CREATED:20240407T134022Z
LAST-MODIFIED:20240407T134022Z
UID:5656-1717322400-1717331400@cfcnc.us
SUMMARY:Sunday Service
DESCRIPTION:
URL:https://cfcnc.us/event/sunday-service-30/
LOCATION:Christian Faith Center\, 101 South Peachtree Street\, Creedmoor\, 27522\, United States
CATEGORIES:Regular Service
END:VEVENT
BEGIN:VEVENT
DTSTART;TZID=UTC:20240526T100000
DTEND;TZID=UTC:20240526T123000
DTSTAMP:20260420T212451
CREATED:20240407T133957Z
LAST-MODIFIED:20240407T133957Z
UID:5655-1716717600-1716726600@cfcnc.us
SUMMARY:Sunday Service
DESCRIPTION:
URL:https://cfcnc.us/event/sunday-service-29/
LOCATION:Christian Faith Center\, 101 South Peachtree Street\, Creedmoor\, 27522\, United States
CATEGORIES:Regular Service
END:VEVENT
BEGIN:VEVENT
DTSTART;TZID=UTC:20240519T100000
DTEND;TZID=UTC:20240519T123000
DTSTAMP:20260420T212451
CREATED:20240407T133824Z
LAST-MODIFIED:20240407T133824Z
UID:5654-1716112800-1716121800@cfcnc.us
SUMMARY:Sunday Service
DESCRIPTION:
URL:https://cfcnc.us/event/sunday-service-28/
LOCATION:Christian Faith Center\, 101 South Peachtree Street\, Creedmoor\, 27522\, United States
CATEGORIES:Regular Service
END:VEVENT
BEGIN:VEVENT
DTSTART;TZID=UTC:20240512T100000
DTEND;TZID=UTC:20240512T123000
DTSTAMP:20260420T212451
CREATED:20240407T133756Z
LAST-MODIFIED:20240407T133756Z
UID:5653-1715508000-1715517000@cfcnc.us
SUMMARY:Sunday Service
DESCRIPTION:
URL:https://cfcnc.us/event/sunday-service-27/
LOCATION:Christian Faith Center\, 101 South Peachtree Street\, Creedmoor\, 27522\, United States
CATEGORIES:Regular Service
END:VEVENT
BEGIN:VEVENT
DTSTART;TZID=UTC:20240505T100000
DTEND;TZID=UTC:20240505T123000
DTSTAMP:20260420T212451
CREATED:20240407T133722Z
LAST-MODIFIED:20240407T133722Z
UID:5652-1714903200-1714912200@cfcnc.us
SUMMARY:Sunday Service
DESCRIPTION:
URL:https://cfcnc.us/event/sunday-service-26/
LOCATION:Christian Faith Center\, 101 South Peachtree Street\, Creedmoor\, 27522\, United States
CATEGORIES:Regular Service
END:VEVENT
BEGIN:VEVENT
DTSTART;TZID=UTC:20240504T100000
DTEND;TZID=UTC:20240504T123000
DTSTAMP:20260420T212451
CREATED:20240407T150345Z
LAST-MODIFIED:20240407T150840Z
UID:5765-1714816800-1714825800@cfcnc.us
SUMMARY:Women's Fellowship - Ladies' Day Brunch
DESCRIPTION:A time of fellowship\, food\, and inspiration! \nCost: $75 \nTickets must be purchased online at: \nLadies’ Days Brunch Tickets \nFor more information\, call (919) 528-1581 x100 or email us at frontdesk@cfcnc.us
URL:https://cfcnc.us/event/womens-fellowship-ladies-day-brunch/
LOCATION:Crabtree Marriott Hotel\, 4500 Marriott Drive\, Raleigh\, NC\, 27612\, United States
CATEGORIES:Regular Service
END:VEVENT
BEGIN:VEVENT
DTSTART;TZID=UTC:20240428T100000
DTEND;TZID=UTC:20240428T123000
DTSTAMP:20260420T212451
CREATED:20240407T133318Z
LAST-MODIFIED:20240407T133425Z
UID:5651-1714298400-1714307400@cfcnc.us
SUMMARY:Sunday Service
DESCRIPTION:
URL:https://cfcnc.us/event/sunday-service-25/
LOCATION:Christian Faith Center\, 101 South Peachtree Street\, Creedmoor\, 27522\, United States
CATEGORIES:Regular Service
END:VEVENT
BEGIN:VEVENT
DTSTART;TZID=UTC:20240421T100000
DTEND;TZID=UTC:20240421T123000
DTSTAMP:20260420T212451
CREATED:20240407T132554Z
LAST-MODIFIED:20240407T132554Z
UID:5649-1713693600-1713702600@cfcnc.us
SUMMARY:Sunday Service
DESCRIPTION:
URL:https://cfcnc.us/event/sunday-service-24/
LOCATION:Christian Faith Center\, 101 South Peachtree Street\, Creedmoor\, 27522\, United States
CATEGORIES:Regular Service
END:VEVENT
BEGIN:VEVENT
DTSTART;TZID=UTC:20240414T100000
DTEND;TZID=UTC:20240414T123000
DTSTAMP:20260420T212451
CREATED:20240407T132444Z
LAST-MODIFIED:20240407T132444Z
UID:5646-1713088800-1713097800@cfcnc.us
SUMMARY:Sunday Service
DESCRIPTION:
URL:https://cfcnc.us/event/sunday-service-23/
LOCATION:Christian Faith Center\, 101 South Peachtree Street\, Creedmoor\, 27522\, United States
CATEGORIES:Regular Service
END:VEVENT
BEGIN:VEVENT
DTSTART;TZID=UTC:20231224T100000
DTEND;TZID=UTC:20231224T123000
DTSTAMP:20260420T212451
CREATED:20231125T183553Z
LAST-MODIFIED:20231125T183553Z
UID:5598-1703412000-1703421000@cfcnc.us
SUMMARY:Christmas Eve Service
DESCRIPTION:
URL:https://cfcnc.us/event/christmas-eve-service/
LOCATION:Christian Faith Center\, 101 South Peachtree Street\, Creedmoor\, 27522\, United States
CATEGORIES:Regular Service
END:VEVENT
BEGIN:VEVENT
DTSTART;TZID=UTC:20231217T100000
DTEND;TZID=UTC:20231217T123000
DTSTAMP:20260420T212451
CREATED:20231125T183503Z
LAST-MODIFIED:20231125T183503Z
UID:5596-1702807200-1702816200@cfcnc.us
SUMMARY:Sunday Service
DESCRIPTION:
URL:https://cfcnc.us/event/sunday-service-22/
LOCATION:Christian Faith Center\, 101 South Peachtree Street\, Creedmoor\, 27522\, United States
CATEGORIES:Regular Service
END:VEVENT
BEGIN:VEVENT
DTSTART;TZID=UTC:20231210T100000
DTEND;TZID=UTC:20231210T123000
DTSTAMP:20260420T212451
CREATED:20231125T183427Z
LAST-MODIFIED:20231125T183427Z
UID:5594-1702202400-1702211400@cfcnc.us
SUMMARY:Sunday Service
DESCRIPTION:
URL:https://cfcnc.us/event/sunday-service-21/
LOCATION:Christian Faith Center\, 101 South Peachtree Street\, Creedmoor\, 27522\, United States
CATEGORIES:Regular Service
END:VEVENT
BEGIN:VEVENT
DTSTART;TZID=UTC:20231209T100000
DTEND;TZID=UTC:20231209T123000
DTSTAMP:20260420T212451
CREATED:20231125T183837Z
LAST-MODIFIED:20231125T183837Z
UID:5602-1702116000-1702125000@cfcnc.us
SUMMARY:Men's Fellowship
DESCRIPTION:
URL:https://cfcnc.us/event/mens-fellowship/
LOCATION:Christian Faith Center\, 101 South Peachtree Street\, Creedmoor\, 27522\, United States
CATEGORIES:Regular Service
END:VEVENT
BEGIN:VEVENT
DTSTART;TZID=UTC:20231203T100000
DTEND;TZID=UTC:20231203T123000
DTSTAMP:20260420T212451
CREATED:20230831T181603Z
LAST-MODIFIED:20230831T181603Z
UID:5531-1701597600-1701606600@cfcnc.us
SUMMARY:Sunday Service
DESCRIPTION:
URL:https://cfcnc.us/event/sunday-service-20/
LOCATION:Christian Faith Center\, 101 South Peachtree Street\, Creedmoor\, 27522\, United States
CATEGORIES:Regular Service
END:VEVENT
BEGIN:VEVENT
DTSTART;TZID=UTC:20231202T100000
DTEND;TZID=UTC:20231202T123000
DTSTAMP:20260420T212451
CREATED:20231125T183735Z
LAST-MODIFIED:20231125T183735Z
UID:5600-1701511200-1701520200@cfcnc.us
SUMMARY:Women's Fellowship
DESCRIPTION:
URL:https://cfcnc.us/event/womens-fellowship/
LOCATION:Christian Faith Center\, 101 South Peachtree Street\, Creedmoor\, 27522\, United States
CATEGORIES:Regular Service
END:VEVENT
BEGIN:VEVENT
DTSTART;TZID=UTC:20231126T100000
DTEND;TZID=UTC:20231126T123000
DTSTAMP:20260420T212451
CREATED:20230831T181106Z
LAST-MODIFIED:20230831T181106Z
UID:5532-1700992800-1701001800@cfcnc.us
SUMMARY:Sunday Service
DESCRIPTION:
URL:https://cfcnc.us/event/sunday-service-19/
LOCATION:Christian Faith Center\, 101 South Peachtree Street\, Creedmoor\, 27522\, United States
CATEGORIES:Regular Service
END:VEVENT
BEGIN:VEVENT
DTSTART;TZID=UTC:20231119T100000
DTEND;TZID=UTC:20231119T123000
DTSTAMP:20260420T212451
CREATED:20230831T180942Z
LAST-MODIFIED:20230831T180942Z
UID:5533-1700388000-1700397000@cfcnc.us
SUMMARY:Sunday Service
DESCRIPTION:
URL:https://cfcnc.us/event/sunday-service-18/
LOCATION:Christian Faith Center\, 101 South Peachtree Street\, Creedmoor\, 27522\, United States
CATEGORIES:Regular Service
END:VEVENT
BEGIN:VEVENT
DTSTART;TZID=UTC:20231112T100000
DTEND;TZID=UTC:20231112T123000
DTSTAMP:20260420T212451
CREATED:20230831T180308Z
LAST-MODIFIED:20230831T180819Z
UID:5534-1699783200-1699792200@cfcnc.us
SUMMARY:Sunday Service
DESCRIPTION:
URL:https://cfcnc.us/event/sunday-service-17/
LOCATION:Christian Faith Center\, 101 South Peachtree Street\, Creedmoor\, 27522\, United States
CATEGORIES:Regular Service
END:VEVENT
BEGIN:VEVENT
DTSTART;TZID=UTC:20231105T100000
DTEND;TZID=UTC:20231105T123000
DTSTAMP:20260420T212451
CREATED:20230831T175843Z
LAST-MODIFIED:20230831T175843Z
UID:5535-1699178400-1699187400@cfcnc.us
SUMMARY:Sunday Service
DESCRIPTION: 
URL:https://cfcnc.us/event/sunday-service-16/
LOCATION:Christian Faith Center\, 101 South Peachtree Street\, Creedmoor\, 27522\, United States
CATEGORIES:Regular Service
END:VEVENT
BEGIN:VEVENT
DTSTART;TZID=UTC:20231029T100000
DTEND;TZID=UTC:20231029T123000
DTSTAMP:20260420T212451
CREATED:20230831T175535Z
LAST-MODIFIED:20230831T175535Z
UID:5530-1698573600-1698582600@cfcnc.us
SUMMARY:Sunday Service
DESCRIPTION:
URL:https://cfcnc.us/event/sunday-service-15/
LOCATION:Christian Faith Center\, 101 South Peachtree Street\, Creedmoor\, 27522\, United States
CATEGORIES:Regular Service
END:VEVENT
END:VCALENDAR